BEGIN:VCALENDAR
VERSION:2.0
PRODID:-//District 101 Toastmasters - ECPv6.15.20//NONSGML v1.0//EN
CALSCALE:GREGORIAN
METHOD:PUBLISH
X-WR-CALNAME:District 101 Toastmasters
X-ORIGINAL-URL:https://d101tm.org
X-WR-CALDESC:Events for District 101 Toastmasters
REFRESH-INTERVAL;VALUE=DURATION:PT1H
X-Robots-Tag:noindex
X-PUBLISHED-TTL:PT1H
BEGIN:VTIMEZONE
TZID:America/Los_Angeles
BEGIN:DAYLIGHT
TZOFFSETFROM:-0800
TZOFFSETTO:-0700
TZNAME:PDT
DTSTART:20250309T100000
END:DAYLIGHT
BEGIN:STANDARD
TZOFFSETFROM:-0700
TZOFFSETTO:-0800
TZNAME:PST
DTSTART:20251102T090000
END:STANDARD
BEGIN:DAYLIGHT
TZOFFSETFROM:-0800
TZOFFSETTO:-0700
TZNAME:PDT
DTSTART:20260308T100000
END:DAYLIGHT
BEGIN:STANDARD
TZOFFSETFROM:-0700
TZOFFSETTO:-0800
TZNAME:PST
DTSTART:20261101T090000
END:STANDARD
BEGIN:DAYLIGHT
TZOFFSETFROM:-0800
TZOFFSETTO:-0700
TZNAME:PDT
DTSTART:20270314T100000
END:DAYLIGHT
BEGIN:STANDARD
TZOFFSETFROM:-0700
TZOFFSETTO:-0800
TZNAME:PST
DTSTART:20271107T090000
END:STANDARD
END:VTIMEZONE
BEGIN:VEVENT
DTSTART;TZID=America/Los_Angeles:20260423T183000
DTEND;TZID=America/Los_Angeles:20260423T193000
DTSTAMP:20260423T023618
CREATED:20260422T182954Z
LAST-MODIFIED:20260422T183224Z
UID:1383209-1776969000-1776972600@d101tm.org
SUMMARY:Travel Talkers Toastmasters Open House
DESCRIPTION:Details\n\n\n\n\n\n\nEvent Title: OPEN HOUSE – Travel Talkers Toastmasters\nTaglines: Be Our Guest | Meet our members | Share your favorite destination\nDate: Thursday\, April 23\nTime: 6:30 – 7:30 PM (-7 UTC)\nLocation: Join us on Zoom at https://tinyurl.com/TravelTalkersZoomLink
URL:https://d101tm.org/event/1383209/
LOCATION:Online Meeting
ATTACH;FMTTYPE=image/png:https://d101tm.org/wp-content/uploads/2026/04/Open-House-Travel-Talkers-1200-x-675-px-1.png
END:VEVENT
END:VCALENDAR