BEGIN:VCALENDAR
VERSION:2.0
PRODID:-//District 101 Toastmasters - ECPv6.15.20//NONSGML v1.0//EN
CALSCALE:GREGORIAN
METHOD:PUBLISH
X-WR-CALNAME:District 101 Toastmasters
X-ORIGINAL-URL:https://d101tm.org
X-WR-CALDESC:Events for District 101 Toastmasters
REFRESH-INTERVAL;VALUE=DURATION:PT1H
X-Robots-Tag:noindex
X-PUBLISHED-TTL:PT1H
BEGIN:VTIMEZONE
TZID:America/Los_Angeles
BEGIN:DAYLIGHT
TZOFFSETFROM:-0800
TZOFFSETTO:-0700
TZNAME:PDT
DTSTART:20150308T100000
END:DAYLIGHT
BEGIN:STANDARD
TZOFFSETFROM:-0700
TZOFFSETTO:-0800
TZNAME:PST
DTSTART:20151101T090000
END:STANDARD
BEGIN:DAYLIGHT
TZOFFSETFROM:-0800
TZOFFSETTO:-0700
TZNAME:PDT
DTSTART:20160313T100000
END:DAYLIGHT
BEGIN:STANDARD
TZOFFSETFROM:-0700
TZOFFSETTO:-0800
TZNAME:PST
DTSTART:20161106T090000
END:STANDARD
BEGIN:DAYLIGHT
TZOFFSETFROM:-0800
TZOFFSETTO:-0700
TZNAME:PDT
DTSTART:20170312T100000
END:DAYLIGHT
BEGIN:STANDARD
TZOFFSETFROM:-0700
TZOFFSETTO:-0800
TZNAME:PST
DTSTART:20171105T090000
END:STANDARD
END:VTIMEZONE
BEGIN:VEVENT
DTSTART;TZID=America/Los_Angeles:20160913T180000
DTEND;TZID=America/Los_Angeles:20160913T210000
DTSTAMP:20260419T061206
CREATED:20160808T120345Z
LAST-MODIFIED:20160904T183424Z
UID:1296-1473789600-1473800400@d101tm.org
SUMMARY:Area E2 Contest
DESCRIPTION:First 5 Santa Clara County\n4000 Moorpark Avenue\, San Jose\, CA 95117 \n \n\n6:00pm – Registration\, Refreshments\, and Networking\n6:15pm – Briefings\n6:30pm – Contests Begin\n9:00pm – Adjourn\n \n\nAdmission Fees (collected at the door)\n\n$6 for registrations through September 11th\n$8 afterwards\nFREE for contestants and district leaders\n \n\nBring cash (exact change greatly appreciated) or a check made payable to “District 101 Toastmasters”\n \n\nContact: Prasanna Muthuvellayan\, prasanna.toastmaster@gmail.com \nRegister Online
URL:https://d101tm.org/event/area-e2-contest/
LOCATION:First 5 Santa Clara County\, 4000 Moorpark Avenue\, San Jose\, CA\, 95117\, United States
CATEGORIES:Contest
END:VEVENT
END:VCALENDAR