BEGIN:VCALENDAR
VERSION:2.0
PRODID:-//District 101 Toastmasters - ECPv6.15.20//NONSGML v1.0//EN
CALSCALE:GREGORIAN
METHOD:PUBLISH
X-WR-CALNAME:District 101 Toastmasters
X-ORIGINAL-URL:https://d101tm.org
X-WR-CALDESC:Events for District 101 Toastmasters
REFRESH-INTERVAL;VALUE=DURATION:PT1H
X-Robots-Tag:noindex
X-PUBLISHED-TTL:PT1H
BEGIN:VTIMEZONE
TZID:America/Los_Angeles
BEGIN:DAYLIGHT
TZOFFSETFROM:-0800
TZOFFSETTO:-0700
TZNAME:PDT
DTSTART:20150308T100000
END:DAYLIGHT
BEGIN:STANDARD
TZOFFSETFROM:-0700
TZOFFSETTO:-0800
TZNAME:PST
DTSTART:20151101T090000
END:STANDARD
BEGIN:DAYLIGHT
TZOFFSETFROM:-0800
TZOFFSETTO:-0700
TZNAME:PDT
DTSTART:20160313T100000
END:DAYLIGHT
BEGIN:STANDARD
TZOFFSETFROM:-0700
TZOFFSETTO:-0800
TZNAME:PST
DTSTART:20161106T090000
END:STANDARD
BEGIN:DAYLIGHT
TZOFFSETFROM:-0800
TZOFFSETTO:-0700
TZNAME:PDT
DTSTART:20170312T100000
END:DAYLIGHT
BEGIN:STANDARD
TZOFFSETFROM:-0700
TZOFFSETTO:-0800
TZNAME:PST
DTSTART:20171105T090000
END:STANDARD
END:VTIMEZONE
BEGIN:VEVENT
DTSTART;TZID=America/Los_Angeles:20160915T173000
DTEND;TZID=America/Los_Angeles:20160915T203000
DTSTAMP:20260419T062154
CREATED:20160825T044107Z
LAST-MODIFIED:20160904T183518Z
UID:1367-1473960600-1473971400@d101tm.org
SUMMARY:Area D3 Contest
DESCRIPTION:Agenda:\n5:30-6:00 Setup and Registration\n6:00-6:30 Light dinner\, briefing and networking\n6:30-7:30 Evaluation Contest\n7:30-8:30 Humorous Speech Contest \nIntel Security\n2821 Mission College Blvd\nSanta Clara\, CA 95051 \nCost: \n$7 with registration before September 15 (please register in advance!)\n$10 for registration at the door  \nPlease bring cash (exact amount if possible). No credit or debit cards. \nPlease bring your Photo ID for Intel Security! \nIf you have questions you can contact Area D3 Director Olena Bilko\, lena.bilko@gmail.com\, 415-400-9073 \nRegister Online
URL:https://d101tm.org/event/area-d3-contest/
LOCATION:Intel Security\, 2821 Mission College Blvd.\, Santa Clara\, CA\, 95054\, United States
CATEGORIES:Contest
END:VEVENT
END:VCALENDAR