BEGIN:VCALENDAR
VERSION:2.0
PRODID:-//District 101 Toastmasters - ECPv6.15.20//NONSGML v1.0//EN
CALSCALE:GREGORIAN
METHOD:PUBLISH
X-ORIGINAL-URL:https://d101tm.org
X-WR-CALDESC:Events for District 101 Toastmasters
REFRESH-INTERVAL;VALUE=DURATION:PT1H
X-Robots-Tag:noindex
X-PUBLISHED-TTL:PT1H
BEGIN:VTIMEZONE
TZID:America/Los_Angeles
BEGIN:DAYLIGHT
TZOFFSETFROM:-0800
TZOFFSETTO:-0700
TZNAME:PDT
DTSTART:20150308T100000
END:DAYLIGHT
BEGIN:STANDARD
TZOFFSETFROM:-0700
TZOFFSETTO:-0800
TZNAME:PST
DTSTART:20151101T090000
END:STANDARD
BEGIN:DAYLIGHT
TZOFFSETFROM:-0800
TZOFFSETTO:-0700
TZNAME:PDT
DTSTART:20160313T100000
END:DAYLIGHT
BEGIN:STANDARD
TZOFFSETFROM:-0700
TZOFFSETTO:-0800
TZNAME:PST
DTSTART:20161106T090000
END:STANDARD
BEGIN:DAYLIGHT
TZOFFSETFROM:-0800
TZOFFSETTO:-0700
TZNAME:PDT
DTSTART:20170312T100000
END:DAYLIGHT
BEGIN:STANDARD
TZOFFSETFROM:-0700
TZOFFSETTO:-0800
TZNAME:PST
DTSTART:20171105T090000
END:STANDARD
END:VTIMEZONE
BEGIN:VEVENT
DTSTART;TZID=America/Los_Angeles:20160916T174500
DTEND;TZID=America/Los_Angeles:20160916T210000
DTSTAMP:20260419T061624
CREATED:20160903T054206Z
LAST-MODIFIED:20160904T183539Z
UID:1471-1474047900-1474059600@d101tm.org
SUMMARY:Area G1 Contest
DESCRIPTION:Come share some fun and laughs! Laugh along with our humorous speakers. Imagine how you would evaluate the test speaker versus the evaluation speech contestants! And network with Toastmasters in Area G1. See you there. \nFriday\, September 16\, 2016\nHacker DoJo\n3350 Thomas Rd\nSanta Clara\, CA 95054  \n5:45 pm – Registration & Networking\n6:05 pm – Contestants and Judges Briefings\n6:30 pm – Contests Begin\n9:00 pm – Adjourn  \nAdmission: $7 pre-registration by 5PM 9/13 ; $10 at the door. No charge for Contestants & District 101 leaders! Please bring cash (exact change please) or check made payable to:”District 101 Toastmasters.”  \nContact: Lin Chao (Click to email) \nRegister Online
URL:https://d101tm.org/event/area-g1-contest/
LOCATION:Hacker DoJo\, 3350 Thomas Rd\, Santa Clara\, CA\, 95054 \, United States
CATEGORIES:Contest
END:VEVENT
END:VCALENDAR