BEGIN:VCALENDAR
VERSION:2.0
PRODID:-//District 101 Toastmasters - ECPv6.15.20//NONSGML v1.0//EN
CALSCALE:GREGORIAN
METHOD:PUBLISH
X-WR-CALNAME:District 101 Toastmasters
X-ORIGINAL-URL:https://d101tm.org
X-WR-CALDESC:Events for District 101 Toastmasters
REFRESH-INTERVAL;VALUE=DURATION:PT1H
X-Robots-Tag:noindex
X-PUBLISHED-TTL:PT1H
BEGIN:VTIMEZONE
TZID:America/Los_Angeles
BEGIN:DAYLIGHT
TZOFFSETFROM:-0800
TZOFFSETTO:-0700
TZNAME:PDT
DTSTART:20150308T100000
END:DAYLIGHT
BEGIN:STANDARD
TZOFFSETFROM:-0700
TZOFFSETTO:-0800
TZNAME:PST
DTSTART:20151101T090000
END:STANDARD
BEGIN:DAYLIGHT
TZOFFSETFROM:-0800
TZOFFSETTO:-0700
TZNAME:PDT
DTSTART:20160313T100000
END:DAYLIGHT
BEGIN:STANDARD
TZOFFSETFROM:-0700
TZOFFSETTO:-0800
TZNAME:PST
DTSTART:20161106T090000
END:STANDARD
BEGIN:DAYLIGHT
TZOFFSETFROM:-0800
TZOFFSETTO:-0700
TZNAME:PDT
DTSTART:20170312T100000
END:DAYLIGHT
BEGIN:STANDARD
TZOFFSETFROM:-0700
TZOFFSETTO:-0800
TZNAME:PST
DTSTART:20171105T090000
END:STANDARD
END:VTIMEZONE
BEGIN:VEVENT
DTSTART;TZID=America/Los_Angeles:20160921T180000
DTEND;TZID=America/Los_Angeles:20160921T204500
DTSTAMP:20260419T081928
CREATED:20160826T070341Z
LAST-MODIFIED:20160904T183836Z
UID:1381-1474480800-1474490700@d101tm.org
SUMMARY:Area D1 Contest
DESCRIPTION:Agenda: \n6:00pm – Registration Opens\, Light Dinner\n6:20pm – Contestant and Judges Briefing\n6:40pm – Contest Begins\n8:45pm – Adjourn \nNVIDIA\n2800 Scott Boulevard\,\nSanta Clara\, CA – 95050 \nCost:\n$7 for pre-registration / $9 thereafter\nPre-registration ends Monday\, Sep 19th at 11:59pm. \nBring cash (exact amount is appreciated) or check payable to “District 101 Toastmasters”.  \nLight dinner is included! \nContact: Kalpana Manickavasagam\, D1 Area Director\, mkalpana.02@gmail.com \nRegister Online
URL:https://d101tm.org/event/area-d1-contest/
LOCATION:NVIDIA\, 2788 San Tomas Expressway\, Santa Clara\, 95051\, United States
CATEGORIES:Contest
END:VEVENT
BEGIN:VEVENT
DTSTART;TZID=America/Los_Angeles:20160921T180000
DTEND;TZID=America/Los_Angeles:20160921T210000
DTSTAMP:20260419T081928
CREATED:20160809T064147Z
LAST-MODIFIED:20160904T183946Z
UID:1305-1474480800-1474491600@d101tm.org
SUMMARY:Area E1 Contest
DESCRIPTION:Wednesday\, 6-9pm\, September 21\, 2016 \n6:00pm – Registration\, Refreshments\, and Networking\n6:15pm – Briefings Being\n6:30pm – Contests Begin\n9:00pm – Adjourn \nSugarCRM Training Center\nSuite 100\, 19450 Stevens Creek Blvd.\, Cupertino\, CA 95014\nmap \nAdmission Fees (collected at the door) \n$7 for registrations through September 10th\n$9 afterwards\nFREE for contestants and district leaders \nBring cash (exact change greatly appreciated) or a check made payable to:\n“District 101 Toastmasters” \nEvent hosted by: District 101\, Area E1\nJim Kahn\, Area E1 Director\, jkahn76@gmail.com \nRegister Online
URL:https://d101tm.org/event/area-e1-contest/
LOCATION:SugarCRM Training Center \, Suite 100\, 19450 Stevens Creek Blvd\, Cupertino\, CA\, 95014\, United States
CATEGORIES:Contest
END:VEVENT
BEGIN:VEVENT
DTSTART;TZID=America/Los_Angeles:20160921T180000
DTEND;TZID=America/Los_Angeles:20160921T210000
DTSTAMP:20260419T081928
CREATED:20160909T154641Z
LAST-MODIFIED:20160909T154641Z
UID:1589-1474480800-1474491600@d101tm.org
SUMMARY:Area B4 Contest
DESCRIPTION:Location:\nWestGate Church\n6601 Camden Ave\,\nSan Jose\, CA 95120 \nProgram\n6:00 – Registration\, Light Dinner and Networking\n6:30 – Contestants and Judges Briefing\n6:45 – Contest Begins\n9:00 – Adjourn \nAdmission Fees (Collected at Door)\n$7 for registration through September 19\n$10 afterwards\nPlease bring cash or check made out to “District 101 Toastmasters” (Exact change appreciated)\nNo charge for contestants or District Leaders. \nEvent hosted by District 101\, Area B4\nSophia Liu\, Area B4 Director\, sophia_liu@hotmail.com
URL:https://d101tm.org/event/area-b4-contest/
LOCATION:Westgate Church\, 6601 Camden Ave\, San Jose\, 95120\, United States
CATEGORIES:Contest
END:VEVENT
END:VCALENDAR