BEGIN:VCALENDAR
VERSION:2.0
PRODID:-//District 101 Toastmasters - ECPv6.15.20//NONSGML v1.0//EN
CALSCALE:GREGORIAN
METHOD:PUBLISH
X-ORIGINAL-URL:https://d101tm.org
X-WR-CALDESC:Events for District 101 Toastmasters
REFRESH-INTERVAL;VALUE=DURATION:PT1H
X-Robots-Tag:noindex
X-PUBLISHED-TTL:PT1H
BEGIN:VTIMEZONE
TZID:America/Los_Angeles
BEGIN:DAYLIGHT
TZOFFSETFROM:-0800
TZOFFSETTO:-0700
TZNAME:PDT
DTSTART:20160313T100000
END:DAYLIGHT
BEGIN:STANDARD
TZOFFSETFROM:-0700
TZOFFSETTO:-0800
TZNAME:PST
DTSTART:20161106T090000
END:STANDARD
BEGIN:DAYLIGHT
TZOFFSETFROM:-0800
TZOFFSETTO:-0700
TZNAME:PDT
DTSTART:20170312T100000
END:DAYLIGHT
BEGIN:STANDARD
TZOFFSETFROM:-0700
TZOFFSETTO:-0800
TZNAME:PST
DTSTART:20171105T090000
END:STANDARD
BEGIN:DAYLIGHT
TZOFFSETFROM:-0800
TZOFFSETTO:-0700
TZNAME:PDT
DTSTART:20180311T100000
END:DAYLIGHT
BEGIN:STANDARD
TZOFFSETFROM:-0700
TZOFFSETTO:-0800
TZNAME:PST
DTSTART:20181104T090000
END:STANDARD
END:VTIMEZONE
BEGIN:VEVENT
DTSTART;TZID=America/Los_Angeles:20170406T173000
DTEND;TZID=America/Los_Angeles:20170406T210000
DTSTAMP:20260420T093140
CREATED:20170310T071924Z
LAST-MODIFIED:20170310T071924Z
UID:2127-1491499800-1491512400@d101tm.org
SUMMARY:Area G1 Contest
DESCRIPTION:AGENDA\n5:30 pm Registration\, Networking\, Refreshments\n6:00 pm Contestant briefing\n6:15 pm Contest Begins\n9:00 pm Contest Adjourns \nAdmission fees \n(Contestants are FREE!)\n$6.00 each if registering by April 5th\n$10.00 each on April 6th \n[Please Note: we don’t accept payment on this page; this is just to get you registered! Please bring exact cash to the event\, or we can accept a check made out to “District 4 Toastmasters”. No credit/debit cards accepted.]
URL:https://d101tm.org/event/area-g1-contest-2/
LOCATION:Mountain View Community Center\, 201 South Rengstorff Avenue\, Mountain View\, CA\, United States
CATEGORIES:Contest
ORGANIZER;CN="Aditi Vijaykumar":MAILTO:aditivk@gmail.com
END:VEVENT
BEGIN:VEVENT
DTSTART;TZID=America/Los_Angeles:20170406T180000
DTEND;TZID=America/Los_Angeles:20170406T210000
DTSTAMP:20260420T093140
CREATED:20170309T072845Z
LAST-MODIFIED:20170309T072845Z
UID:2112-1491501600-1491512400@d101tm.org
SUMMARY:Area C4 Contest
DESCRIPTION:Agenda\n6:00pm – Registration\, Refreshments\, Networking\n6:15pm – Contestant and Judge Briefings\n6:30pm – Table Topic Speech Contest\n7:30pm – Break\n7:40pm – International Speech Contest\n9:00pm – Adjourn \nLocation \nCadence Design Systems (Bldg. 10 Auditorium)\n2655 Seely Av.\nSan Jose\, CA 95134\nmap \nAdmission Fees \n(collected at the door)\n$6 for registration through Apr 5\n$8 afterwards\nFREE for contestants and district leaders \nPlease bring cash (exact change is greatly appreciated) or a check made payable to:\n“District 101 Toastmasters” \nEven Organizers\nContest Chair: December Martin (decemberb@gmail.com)\nArea C4 Director: Sravasti Nair (sravasti@gmail.com)
URL:https://d101tm.org/event/area-c4-contest-2/
LOCATION:Cadence Design Systems (Building 10 Auditorium)\, 2655 Seely Avenue\, San Jose\, CA\, 95134\, United States
CATEGORIES:Contest
ORGANIZER;CN="Sravasti Nair":MAILTO:sravasti@gmail.com
END:VEVENT
END:VCALENDAR