BEGIN:VCALENDAR
VERSION:2.0
PRODID:-//District 101 Toastmasters - ECPv6.15.20//NONSGML v1.0//EN
CALSCALE:GREGORIAN
METHOD:PUBLISH
X-WR-CALNAME:District 101 Toastmasters
X-ORIGINAL-URL:https://d101tm.org
X-WR-CALDESC:Events for District 101 Toastmasters
REFRESH-INTERVAL;VALUE=DURATION:PT1H
X-Robots-Tag:noindex
X-PUBLISHED-TTL:PT1H
BEGIN:VTIMEZONE
TZID:America/Los_Angeles
BEGIN:DAYLIGHT
TZOFFSETFROM:-0800
TZOFFSETTO:-0700
TZNAME:PDT
DTSTART:20250309T100000
END:DAYLIGHT
BEGIN:STANDARD
TZOFFSETFROM:-0700
TZOFFSETTO:-0800
TZNAME:PST
DTSTART:20251102T090000
END:STANDARD
BEGIN:DAYLIGHT
TZOFFSETFROM:-0800
TZOFFSETTO:-0700
TZNAME:PDT
DTSTART:20260308T100000
END:DAYLIGHT
BEGIN:STANDARD
TZOFFSETFROM:-0700
TZOFFSETTO:-0800
TZNAME:PST
DTSTART:20261101T090000
END:STANDARD
BEGIN:DAYLIGHT
TZOFFSETFROM:-0800
TZOFFSETTO:-0700
TZNAME:PDT
DTSTART:20270314T100000
END:DAYLIGHT
BEGIN:STANDARD
TZOFFSETFROM:-0700
TZOFFSETTO:-0800
TZNAME:PST
DTSTART:20271107T090000
END:STANDARD
END:VTIMEZONE
BEGIN:VEVENT
DTSTART;TZID=America/Los_Angeles:20260426T130000
DTEND;TZID=America/Los_Angeles:20260426T163000
DTSTAMP:20260423T155819
CREATED:20260308T042053Z
LAST-MODIFIED:20260308T042053Z
UID:1382702-1777208400-1777221000@d101tm.org
SUMMARY:Division E Speech Contest
DESCRIPTION:
URL:https://d101tm.org/event/division-e-speech-contest/
LOCATION:Murphy Park Hall\, 260 North Sunnyvale Avenue\, Sunnyvale\, CA\, 94086\, United States
CATEGORIES:Contest,Division Contest
ATTACH;FMTTYPE=image/jpeg:https://d101tm.org/wp-content/uploads/2026/03/1000052075.jpg
END:VEVENT
END:VCALENDAR