BEGIN:VCALENDAR
VERSION:2.0
PRODID:-//District 101 Toastmasters - ECPv6.15.20//NONSGML v1.0//EN
CALSCALE:GREGORIAN
METHOD:PUBLISH
X-ORIGINAL-URL:https://d101tm.org
X-WR-CALDESC:Events for District 101 Toastmasters
REFRESH-INTERVAL;VALUE=DURATION:PT1H
X-Robots-Tag:noindex
X-PUBLISHED-TTL:PT1H
BEGIN:VTIMEZONE
TZID:America/Los_Angeles
BEGIN:DAYLIGHT
TZOFFSETFROM:-0800
TZOFFSETTO:-0700
TZNAME:PDT
DTSTART:20170312T100000
END:DAYLIGHT
BEGIN:STANDARD
TZOFFSETFROM:-0700
TZOFFSETTO:-0800
TZNAME:PST
DTSTART:20171105T090000
END:STANDARD
BEGIN:DAYLIGHT
TZOFFSETFROM:-0800
TZOFFSETTO:-0700
TZNAME:PDT
DTSTART:20180311T100000
END:DAYLIGHT
BEGIN:STANDARD
TZOFFSETFROM:-0700
TZOFFSETTO:-0800
TZNAME:PST
DTSTART:20181104T090000
END:STANDARD
BEGIN:DAYLIGHT
TZOFFSETFROM:-0800
TZOFFSETTO:-0700
TZNAME:PDT
DTSTART:20190310T100000
END:DAYLIGHT
BEGIN:STANDARD
TZOFFSETFROM:-0700
TZOFFSETTO:-0800
TZNAME:PST
DTSTART:20191103T090000
END:STANDARD
BEGIN:DAYLIGHT
TZOFFSETFROM:-0800
TZOFFSETTO:-0700
TZNAME:PDT
DTSTART:20200308T100000
END:DAYLIGHT
BEGIN:STANDARD
TZOFFSETFROM:-0700
TZOFFSETTO:-0800
TZNAME:PST
DTSTART:20201101T090000
END:STANDARD
BEGIN:DAYLIGHT
TZOFFSETFROM:-0800
TZOFFSETTO:-0700
TZNAME:PDT
DTSTART:20210314T100000
END:DAYLIGHT
BEGIN:STANDARD
TZOFFSETFROM:-0700
TZOFFSETTO:-0800
TZNAME:PST
DTSTART:20211107T090000
END:STANDARD
BEGIN:DAYLIGHT
TZOFFSETFROM:-0800
TZOFFSETTO:-0700
TZNAME:PDT
DTSTART:20220313T100000
END:DAYLIGHT
BEGIN:STANDARD
TZOFFSETFROM:-0700
TZOFFSETTO:-0800
TZNAME:PST
DTSTART:20221106T090000
END:STANDARD
BEGIN:DAYLIGHT
TZOFFSETFROM:-0800
TZOFFSETTO:-0700
TZNAME:PDT
DTSTART:20230312T100000
END:DAYLIGHT
BEGIN:STANDARD
TZOFFSETFROM:-0700
TZOFFSETTO:-0800
TZNAME:PST
DTSTART:20231105T090000
END:STANDARD
BEGIN:DAYLIGHT
TZOFFSETFROM:-0800
TZOFFSETTO:-0700
TZNAME:PDT
DTSTART:20240310T100000
END:DAYLIGHT
BEGIN:STANDARD
TZOFFSETFROM:-0700
TZOFFSETTO:-0800
TZNAME:PST
DTSTART:20241103T090000
END:STANDARD
BEGIN:DAYLIGHT
TZOFFSETFROM:-0800
TZOFFSETTO:-0700
TZNAME:PDT
DTSTART:20250309T100000
END:DAYLIGHT
BEGIN:STANDARD
TZOFFSETFROM:-0700
TZOFFSETTO:-0800
TZNAME:PST
DTSTART:20251102T090000
END:STANDARD
BEGIN:DAYLIGHT
TZOFFSETFROM:-0800
TZOFFSETTO:-0700
TZNAME:PDT
DTSTART:20260308T100000
END:DAYLIGHT
BEGIN:STANDARD
TZOFFSETFROM:-0700
TZOFFSETTO:-0800
TZNAME:PST
DTSTART:20261101T090000
END:STANDARD
END:VTIMEZONE
BEGIN:VEVENT
DTSTART;TZID=America/Los_Angeles:20250927T100000
DTEND;TZID=America/Los_Angeles:20250927T120000
DTSTAMP:20260424T023756
CREATED:20250910T185828Z
LAST-MODIFIED:20250925T210707Z
UID:1382038-1758967200-1758974400@d101tm.org
SUMMARY:District 101 Fall Business Meeting
DESCRIPTION:Calling all District Executive Committee Members\, Club Presidents\, and Vice Presidents of Education… \nJoin us for an important business meeting where your voice helps shape the direction of District 101. \nZoom registration: https://us06web.zoom.us/meeting/register/az7mjg8PSyerQS1pNAWYvg?_x_zm_rtaid=rQHgpZcfRD-ef6CrHMhusg.1757530561891.67019efba6ff34cf9c32b548ab7d3090&_x_zm_rhtaid=150#/registration
URL:https://d101tm.org/event/district-101-fall-business-meeting/
LOCATION:Online Meeting
CATEGORIES:District Council Meeting
ATTACH;FMTTYPE=image/png:https://d101tm.org/wp-content/uploads/2025/09/Business-Meeting_Fall-20250927-3.png
END:VEVENT
BEGIN:VEVENT
DTSTART;TZID=America/Los_Angeles:20250503T114500
DTEND;TZID=America/Los_Angeles:20250503T140000
DTSTAMP:20260424T023756
CREATED:20250422T012104Z
LAST-MODIFIED:20250422T012257Z
UID:1381019-1746272700-1746280800@d101tm.org
SUMMARY:2025 Annual District Council Meeting
DESCRIPTION:May 3\, 2025\n11:45 AM PDT\nOnline meeting \nREGISTER HERE \nAll Club Presidents\, Vice Presidents of Education\, and District Executive Committee members in good standing get one vote each. All eligible voting members will receive a special email invitation from our Credentials Chair\, Helen Josephine. \nVoting members MUST register by 12:00 PM PDT on Friday\, May 2 in order to receive a ballot emailed to them. Those who register after that time may attend the meeting but will not be able to vote. \nFor more information\, go to https://d101tm.org/2025-annual-district-council-meeting/
URL:https://d101tm.org/event/1381019/
CATEGORIES:DEC,District Council Meeting
END:VEVENT
BEGIN:VEVENT
DTSTART;TZID=America/Los_Angeles:20220924T100000
DTEND;TZID=America/Los_Angeles:20220924T120000
DTSTAMP:20260424T023756
CREATED:20220718T095227Z
LAST-MODIFIED:20220901T161109Z
UID:20834-1664013600-1664020800@d101tm.org
SUMMARY:2022 Fall District Business Meeting
DESCRIPTION:
URL:https://d101tm.org/event/2022-fall-district-business-meeting/
CATEGORIES:District Council Meeting
END:VEVENT
BEGIN:VEVENT
DTSTART;TZID=America/Los_Angeles:20200919T100000
DTEND;TZID=America/Los_Angeles:20200919T120000
DTSTAMP:20260424T023756
CREATED:20200704T220940Z
LAST-MODIFIED:20200916T140736Z
UID:9262-1600509600-1600516800@d101tm.org
SUMMARY:2020 Fall District Council Meeting
DESCRIPTION:This is an online event.
URL:https://d101tm.org/event/2019-fall-district-business-meeting-2/
CATEGORIES:District Council Meeting
END:VEVENT
BEGIN:VEVENT
DTSTART;TZID=America/Los_Angeles:20190921T100000
DTEND;TZID=America/Los_Angeles:20190921T120000
DTSTAMP:20260424T023756
CREATED:20190813T195007Z
LAST-MODIFIED:20190907T215129Z
UID:6021-1569060000-1569067200@d101tm.org
SUMMARY:2019 Fall District Business Meeting
DESCRIPTION:This is an online event.   \nDetails will be posted at
URL:https://d101tm.org/event/2019-fall-district-business-meeting/
CATEGORIES:District Council Meeting
END:VEVENT
BEGIN:VEVENT
DTSTART;VALUE=DATE:20180922
DTEND;VALUE=DATE:20180923
DTSTAMP:20260424T023756
CREATED:20180703T152648Z
LAST-MODIFIED:20180906T172205Z
UID:4035-1537574400-1537660799@d101tm.org
SUMMARY:District Council Meeting
DESCRIPTION:This will be an online meeting. \nMore details will be posted closer to the date.
URL:https://d101tm.org/event/district-council-meeting/
CATEGORIES:District Council Meeting
END:VEVENT
END:VCALENDAR