BEGIN:VCALENDAR
VERSION:2.0
PRODID:-//District 101 Toastmasters - ECPv6.15.20//NONSGML v1.0//EN
CALSCALE:GREGORIAN
METHOD:PUBLISH
X-WR-CALNAME:District 101 Toastmasters
X-ORIGINAL-URL:https://d101tm.org
X-WR-CALDESC:Events for District 101 Toastmasters
REFRESH-INTERVAL;VALUE=DURATION:PT1H
X-Robots-Tag:noindex
X-PUBLISHED-TTL:PT1H
BEGIN:VTIMEZONE
TZID:America/Los_Angeles
BEGIN:DAYLIGHT
TZOFFSETFROM:-0800
TZOFFSETTO:-0700
TZNAME:PDT
DTSTART:20150308T100000
END:DAYLIGHT
BEGIN:STANDARD
TZOFFSETFROM:-0700
TZOFFSETTO:-0800
TZNAME:PST
DTSTART:20151101T090000
END:STANDARD
BEGIN:DAYLIGHT
TZOFFSETFROM:-0800
TZOFFSETTO:-0700
TZNAME:PDT
DTSTART:20160313T100000
END:DAYLIGHT
BEGIN:STANDARD
TZOFFSETFROM:-0700
TZOFFSETTO:-0800
TZNAME:PST
DTSTART:20161106T090000
END:STANDARD
BEGIN:DAYLIGHT
TZOFFSETFROM:-0800
TZOFFSETTO:-0700
TZNAME:PDT
DTSTART:20170312T100000
END:DAYLIGHT
BEGIN:STANDARD
TZOFFSETFROM:-0700
TZOFFSETTO:-0800
TZNAME:PST
DTSTART:20171105T090000
END:STANDARD
END:VTIMEZONE
BEGIN:VEVENT
DTSTART;TZID=America/Los_Angeles:20160721T180000
DTEND;TZID=America/Los_Angeles:20160721T201500
DTSTAMP:20260419T093513
CREATED:20160702T154824Z
LAST-MODIFIED:20160713T002001Z
UID:1154-1469124000-1469132100@d101tm.org
SUMMARY:Club Officer Training - San Jose
DESCRIPTION:6:00pm: Registration & light dinner\n6:20pm: Keynotes\, followed by Officer Training Sessions\n8:15pm: Adjourn \nCost:\n$6 for early registration\n$8 for registration after Monday\, July 18 (or at the door if space is available) \nLight refreshments served. \nPlease bring cash (exact amount if possible) or a check made payable to “District 101 Toastmasters”. No credit or debit cards. \nAll attendees must bring a government issued photo ID for check in. \nRegister Online
URL:https://d101tm.org/event/club-officer-training-san-jose-2016-07-21/
LOCATION:Xilinx Building 3\, 2055 All Programmable Dr. (former Logic Drive)\, San Jose\, CA\, 95124\, United States
CATEGORIES:Training
ORGANIZER;CN="Afif Farhat":MAILTO:afiffarhat12@gmail.com
END:VEVENT
END:VCALENDAR