BEGIN:VCALENDAR
VERSION:2.0
PRODID:-//District 101 Toastmasters - ECPv6.15.20//NONSGML v1.0//EN
CALSCALE:GREGORIAN
METHOD:PUBLISH
X-WR-CALNAME:District 101 Toastmasters
X-ORIGINAL-URL:https://d101tm.org
X-WR-CALDESC:Events for District 101 Toastmasters
REFRESH-INTERVAL;VALUE=DURATION:PT1H
X-Robots-Tag:noindex
X-PUBLISHED-TTL:PT1H
BEGIN:VTIMEZONE
TZID:America/Los_Angeles
BEGIN:DAYLIGHT
TZOFFSETFROM:-0800
TZOFFSETTO:-0700
TZNAME:PDT
DTSTART:20150308T100000
END:DAYLIGHT
BEGIN:STANDARD
TZOFFSETFROM:-0700
TZOFFSETTO:-0800
TZNAME:PST
DTSTART:20151101T090000
END:STANDARD
BEGIN:DAYLIGHT
TZOFFSETFROM:-0800
TZOFFSETTO:-0700
TZNAME:PDT
DTSTART:20160313T100000
END:DAYLIGHT
BEGIN:STANDARD
TZOFFSETFROM:-0700
TZOFFSETTO:-0800
TZNAME:PST
DTSTART:20161106T090000
END:STANDARD
BEGIN:DAYLIGHT
TZOFFSETFROM:-0800
TZOFFSETTO:-0700
TZNAME:PDT
DTSTART:20170312T100000
END:DAYLIGHT
BEGIN:STANDARD
TZOFFSETFROM:-0700
TZOFFSETTO:-0800
TZNAME:PST
DTSTART:20171105T090000
END:STANDARD
END:VTIMEZONE
BEGIN:VEVENT
DTSTART;TZID=America/Los_Angeles:20160726T180000
DTEND;TZID=America/Los_Angeles:20160726T203000
DTSTAMP:20260419T093511
CREATED:20160707T205059Z
LAST-MODIFIED:20160718T174526Z
UID:1190-1469556000-1469565000@d101tm.org
SUMMARY:Club Officer Training - San Jose
DESCRIPTION:6:00pm: Registration & light dinner\n6:30pm: Keynotes\, followed by Officer Training Sessions\n8:30pm: Adjourn \nCost: \n$5 for registrations received on or before July 24\n$10 thereafter and at the door \nLight refreshments served. \nPlease bring cash (exact amount if possible) or a check made payable to “District 101 Toastmasters”. No credit or debit cards. \nPlease see this map for directions to the correct building and parking area. \nRegister Online
URL:https://d101tm.org/event/club-officer-training-san-jose-2016-07-26/
LOCATION:BD Bioscience\, 2350 Qume Drive\, San Jose\, CA\, 95131\, United States
CATEGORIES:Training
ORGANIZER;CN="David Spence":MAILTO:quality@d101tm.org
END:VEVENT
END:VCALENDAR