BEGIN:VCALENDAR
VERSION:2.0
PRODID:-//District 101 Toastmasters - ECPv6.15.20//NONSGML v1.0//EN
CALSCALE:GREGORIAN
METHOD:PUBLISH
X-ORIGINAL-URL:https://d101tm.org
X-WR-CALDESC:Events for District 101 Toastmasters
REFRESH-INTERVAL;VALUE=DURATION:PT1H
X-Robots-Tag:noindex
X-PUBLISHED-TTL:PT1H
BEGIN:VTIMEZONE
TZID:America/Los_Angeles
BEGIN:DAYLIGHT
TZOFFSETFROM:-0800
TZOFFSETTO:-0700
TZNAME:PDT
DTSTART:20150308T100000
END:DAYLIGHT
BEGIN:STANDARD
TZOFFSETFROM:-0700
TZOFFSETTO:-0800
TZNAME:PST
DTSTART:20151101T090000
END:STANDARD
BEGIN:DAYLIGHT
TZOFFSETFROM:-0800
TZOFFSETTO:-0700
TZNAME:PDT
DTSTART:20160313T100000
END:DAYLIGHT
BEGIN:STANDARD
TZOFFSETFROM:-0700
TZOFFSETTO:-0800
TZNAME:PST
DTSTART:20161106T090000
END:STANDARD
BEGIN:DAYLIGHT
TZOFFSETFROM:-0800
TZOFFSETTO:-0700
TZNAME:PDT
DTSTART:20170312T100000
END:DAYLIGHT
BEGIN:STANDARD
TZOFFSETFROM:-0700
TZOFFSETTO:-0800
TZNAME:PST
DTSTART:20171105T090000
END:STANDARD
END:VTIMEZONE
BEGIN:VEVENT
DTSTART;TZID=America/Los_Angeles:20160730T110000
DTEND;TZID=America/Los_Angeles:20160730T133000
DTSTAMP:20260419T073946
CREATED:20160712T230754Z
LAST-MODIFIED:20160713T001632Z
UID:1215-1469876400-1469885400@d101tm.org
SUMMARY:Club Officer Training - Scotts Valley
DESCRIPTION:11:00 am: Registration & snacks\n11:30 am: Keynotes\, followed by Officer Training Sessions\n1:30 pm: Adjourn \nCost:\n$5 for early registration\n$7 for registration after July 29 (or at the door if space is available). \nPlease bring cash (exact amount if possible) or a check made payable to “District 101 Toastmasters”. No credit or debit cards. \nContact: Dave Empty\ncroyd62thoth+TM.D101.Division.A.Director@gmail.com
URL:https://d101tm.org/event/club-officer-training-scotts-valley-2016-07-30/
LOCATION:St Philip the Apostle Episcopal Church\, 5271 Scotts Valley Drive\, Scotts Valley\, CA\, 95066\, United States
CATEGORIES:Training
END:VEVENT
END:VCALENDAR