BEGIN:VCALENDAR
VERSION:2.0
PRODID:-//District 101 Toastmasters - ECPv6.15.20//NONSGML v1.0//EN
CALSCALE:GREGORIAN
METHOD:PUBLISH
X-WR-CALNAME:District 101 Toastmasters
X-ORIGINAL-URL:https://d101tm.org
X-WR-CALDESC:Events for District 101 Toastmasters
REFRESH-INTERVAL;VALUE=DURATION:PT1H
X-Robots-Tag:noindex
X-PUBLISHED-TTL:PT1H
BEGIN:VTIMEZONE
TZID:America/Los_Angeles
BEGIN:DAYLIGHT
TZOFFSETFROM:-0800
TZOFFSETTO:-0700
TZNAME:PDT
DTSTART:20150308T100000
END:DAYLIGHT
BEGIN:STANDARD
TZOFFSETFROM:-0700
TZOFFSETTO:-0800
TZNAME:PST
DTSTART:20151101T090000
END:STANDARD
BEGIN:DAYLIGHT
TZOFFSETFROM:-0800
TZOFFSETTO:-0700
TZNAME:PDT
DTSTART:20160313T100000
END:DAYLIGHT
BEGIN:STANDARD
TZOFFSETFROM:-0700
TZOFFSETTO:-0800
TZNAME:PST
DTSTART:20161106T090000
END:STANDARD
BEGIN:DAYLIGHT
TZOFFSETFROM:-0800
TZOFFSETTO:-0700
TZNAME:PDT
DTSTART:20170312T100000
END:DAYLIGHT
BEGIN:STANDARD
TZOFFSETFROM:-0700
TZOFFSETTO:-0800
TZNAME:PST
DTSTART:20171105T090000
END:STANDARD
END:VTIMEZONE
BEGIN:VEVENT
DTSTART;TZID=America/Los_Angeles:20160825T180000
DTEND;TZID=America/Los_Angeles:20160825T203000
DTSTAMP:20260419T060149
CREATED:20160811T060301Z
LAST-MODIFIED:20160811T060301Z
UID:1319-1472148000-1472157000@d101tm.org
SUMMARY:Club Officer Training – San Jose
DESCRIPTION:Agenda\n6:00 PM: Registration\, light dinner\, Networking\n6:30 PM: Club Officer Training\n8:30 PM: Adjourn \nCost:\n$6 for registration on or before Aug 23rd.\n$8 thereafter if space is available\nRegister today as space is limited! \nPlease bring exact amount in cash (if possible). \nChecks will be accepted (make payable to District 101 Toastmasters).\nNo credit/debit cards.  \nPlease bring a PhotoID for PayPal Security \nQuestions? Contact Program Quality Director Dave Spence \nRegister Online
URL:https://d101tm.org/event/club-officer-training-san-jose/
LOCATION:PayPal Town Hall\, 2161 N 1st Street\, San Jose\, CA\, 95131\, United States
CATEGORIES:Training
ORGANIZER;CN="David Spence":MAILTO:quality@d101tm.org
END:VEVENT
END:VCALENDAR