BEGIN:VCALENDAR
VERSION:2.0
PRODID:-//District 101 Toastmasters - ECPv6.15.20//NONSGML v1.0//EN
CALSCALE:GREGORIAN
METHOD:PUBLISH
X-WR-CALNAME:District 101 Toastmasters
X-ORIGINAL-URL:https://d101tm.org
X-WR-CALDESC:Events for District 101 Toastmasters
REFRESH-INTERVAL;VALUE=DURATION:PT1H
X-Robots-Tag:noindex
X-PUBLISHED-TTL:PT1H
BEGIN:VTIMEZONE
TZID:America/Los_Angeles
BEGIN:DAYLIGHT
TZOFFSETFROM:-0800
TZOFFSETTO:-0700
TZNAME:PDT
DTSTART:20240310T100000
END:DAYLIGHT
BEGIN:STANDARD
TZOFFSETFROM:-0700
TZOFFSETTO:-0800
TZNAME:PST
DTSTART:20241103T090000
END:STANDARD
BEGIN:DAYLIGHT
TZOFFSETFROM:-0800
TZOFFSETTO:-0700
TZNAME:PDT
DTSTART:20250309T100000
END:DAYLIGHT
BEGIN:STANDARD
TZOFFSETFROM:-0700
TZOFFSETTO:-0800
TZNAME:PST
DTSTART:20251102T090000
END:STANDARD
BEGIN:DAYLIGHT
TZOFFSETFROM:-0800
TZOFFSETTO:-0700
TZNAME:PDT
DTSTART:20260308T100000
END:DAYLIGHT
BEGIN:STANDARD
TZOFFSETFROM:-0700
TZOFFSETTO:-0800
TZNAME:PST
DTSTART:20261101T090000
END:STANDARD
BEGIN:DAYLIGHT
TZOFFSETFROM:-0800
TZOFFSETTO:-0700
TZNAME:PDT
DTSTART:20270314T100000
END:DAYLIGHT
BEGIN:STANDARD
TZOFFSETFROM:-0700
TZOFFSETTO:-0800
TZNAME:PST
DTSTART:20271107T090000
END:STANDARD
END:VTIMEZONE
BEGIN:VEVENT
DTSTART;TZID=America/Los_Angeles:20251025T080000
DTEND;TZID=America/Los_Angeles:20251025T150000
DTSTAMP:20260421T144923
CREATED:20250903T193316Z
LAST-MODIFIED:20250925T210632Z
UID:1382017-1761379200-1761404400@d101tm.org
SUMMARY:Fall Humorous Speech Contest
DESCRIPTION:Get ready for laughter and fun at the District 101 Humorous Speech Contest (5–7 minutes per speech)\, happening on: \nSaturday\, October 25 at 8:00 AM – 3:00 PM PT \n What’s happening? \n\nDivision-Level Contests will be held in the morning.\nWinners from each division will move forward to the District-Level Contest in the afternoon — all on the same day!\n\nFor Division-Level Contests: \nPlease reach out to your respective Area / Division Directors for details. \nThis is a paid event. Register here: \nhttps://docs.google.com/forms/d/e/1FAIpQLScFhpvJH2Sj1_BuGcCrEdi2aKvQ6P8EQ5p-j6yAUJgnn4HoMQ/viewform \nSee contest page for more information.
URL:https://d101tm.org/event/fall-humorous-speech-contest/
LOCATION:Independence Adult Education Center\, 625 Educational Park Dr\, San Jose\, CA\, 95133\, United States
CATEGORIES:Contest,Division Contest
ATTACH;FMTTYPE=image/jpeg:https://d101tm.org/wp-content/uploads/2025/09/Humorous_Speech_Contest_Final_20250924_195535_0000.jpg
END:VEVENT
BEGIN:VEVENT
DTSTART;TZID=America/Los_Angeles:20251103T191500
DTEND;TZID=America/Los_Angeles:20251103T204500
DTSTAMP:20260421T144923
CREATED:20251102T193727Z
LAST-MODIFIED:20251102T193727Z
UID:1382256-1762197300-1762202700@d101tm.org
SUMMARY:Milpitas Toastmasters Club Open House
DESCRIPTION:Join the Milpitas Toastmasters for their open house. Everyone is welcome. \nWhen: Nov 3 | 7:15 pm – 8:45 pm \nWhere: Hybrid \nMilpitas Police Department\, Community Room\, 1275 N Milpitas Blvd and on Zoom \nScan QR code on flyer to RSVP
URL:https://d101tm.org/event/milpitas-toastmasters-club-open-house/
LOCATION:CA
CATEGORIES:Open House
ATTACH;FMTTYPE=image/jpeg:https://d101tm.org/wp-content/uploads/2025/11/Milpitas-Open-House.jpg
END:VEVENT
BEGIN:VEVENT
DTSTART;TZID=America/Los_Angeles:20251117T180000
DTEND;TZID=America/Los_Angeles:20251117T200000
DTSTAMP:20260421T144923
CREATED:20251109T160233Z
LAST-MODIFIED:20251109T160516Z
UID:1382277-1763402400-1763409600@d101tm.org
SUMMARY:Train The Trainer
DESCRIPTION:Training is not just speaking to a different group. In this session we will cover basic training theory to allow each participant to be a more effective and informed trainer. \nRegistration is required. \nMeeting Date: November 17\, 2025\nTime: 6 pm to 8 pm (PST)/ 9 pm to 11 pm (EST)/ [UTC -07.00] \nUpon completion participants will be asked to sign up as trainers for District 101. \n*Note: All material presented is the copyrighted and trademarked material of Solarzar. Recording and Transcription Services are not allowed. \nRegister here
URL:https://d101tm.org/event/train-the-trainer-2/
LOCATION:CA
ATTACH;FMTTYPE=image/jpeg:https://d101tm.org/wp-content/uploads/2025/11/0a69f577-9d29-4cef-b034-c109d984c0c1.jpg
END:VEVENT
BEGIN:VEVENT
DTSTART;TZID=America/Los_Angeles:20251119T190000
DTEND;TZID=America/Los_Angeles:20251119T201500
DTSTAMP:20260421T144923
CREATED:20251108T164301Z
LAST-MODIFIED:20251108T164439Z
UID:1382269-1763578800-1763583300@d101tm.org
SUMMARY:The Joy Pivot: Gratitude\, Alignment\, and the Art of Thriving Through Change
DESCRIPTION:Join Linda Shively for “The Joy Pivot” and discover how gratitude and emotional alignment turn change into growth\, confidence\, and joy — just in time for Thanksgiving. \nThis event is open to all\, is free\, and has light refreshments provided. \nDATE:\nWednesday\, November 19\, 2025\n\nTIME:\n7:00PM – 08:15 PM PT\n\nLOCATION:\nIndia Community Center\n525 Los Coches St\, Milpitas\, CA 95035 \nThe Zoom link for those attending online will be sent after the form is completed.\nFurther relevant info can be found here. \n 
URL:https://d101tm.org/event/the-joy-pivot-gratitude-alignment-and-the-art-of-thriving-through-change/
LOCATION:CA
CATEGORIES:GREAT Events
ATTACH;FMTTYPE=image/jpeg:https://d101tm.org/wp-content/uploads/2025/11/070c30ce-2c69-4c8d-81d8-c4c3664f0f91.jpg
END:VEVENT
BEGIN:VEVENT
DTSTART;TZID=America/Los_Angeles:20251121T180000
DTEND;TZID=America/Los_Angeles:20251121T200000
DTSTAMP:20260421T144923
CREATED:20251109T160439Z
LAST-MODIFIED:20251119T022028Z
UID:1382280-1763748000-1763755200@d101tm.org
SUMMARY:Train The Trainer
DESCRIPTION:Training is not just speaking to a different group. In this session we will cover basic training theory to allow each participant to be a more effective and informed trainer. \nRegistration is required. \nMeeting Date: November 20\, 2025\nTime: 6 pm to 8 pm (PST)/ 9 pm to 11 pm (EST)/ [UTC -07.00] \nUpon completion participants will be asked to sign up as trainers for District 101. \n*Note: All material presented is the copyrighted and trademarked material of Solarzar. Recording and Transcription Services are not allowed. \nRegister here
URL:https://d101tm.org/event/train-the-trainer-3/
LOCATION:CA
ATTACH;FMTTYPE=image/jpeg:https://d101tm.org/wp-content/uploads/2025/11/0a69f577-9d29-4cef-b034-c109d984c0c1.jpg
END:VEVENT
BEGIN:VEVENT
DTSTART;TZID=America/Los_Angeles:20251218T174500
DTEND;TZID=America/Los_Angeles:20251218T200000
DTSTAMP:20260421T144923
CREATED:20251213T070248Z
LAST-MODIFIED:20251213T070248Z
UID:1382306-1766079900-1766088000@d101tm.org
SUMMARY:Club Officer Training - Online
DESCRIPTION:Get equipped with the tools and techniques to lead and serve a a Club Officer. Be part of the Toastmaster leadership community. Get trained. \nAgenda:\n——-\n5:45 p.m.: Login / Networking\n6:00 p.m.: Welcome and Instructions\n6:05 p.m.: Keynote\n6:15 p.m.: Officers training\n8:00 p.m.: Adjourn \nDate: December 18\, 2025 (Thursday)\nTime: 6:00 – 8:00 p.m. PT\nLocation: Online \nCost: Free! \nQuestions? Contact:\nProgram Quality Director Chirag Mapara\, chirag.toastmaster@gmail.com
URL:https://d101tm.org/event/club-officer-training-online-59/
LOCATION:Online Meeting
CATEGORIES:Training
END:VEVENT
BEGIN:VEVENT
DTSTART;TZID=America/Los_Angeles:20251222T180000
DTEND;TZID=America/Los_Angeles:20251222T200000
DTSTAMP:20260421T144923
CREATED:20251216T073057Z
LAST-MODIFIED:20251216T073057Z
UID:1382312-1766426400-1766433600@d101tm.org
SUMMARY:Train the Trainer
DESCRIPTION:Learn the effective tools and techniques to be an effective trainer\, both online and in person. This training applies to all training situations and qualifies attendees to serve as Club Officer Trainers for District 101. \nDate: December 22\, 2025 (Monday)\nTime: 6:00 – 8:00 p.m. PT\nLocation: Online \nCost: Free! \nQuestions? Contact:\nProgram Quality Director Chirag Mapara\, chirag.toastmaster@gmail.com
URL:https://d101tm.org/event/train-the-trainer-4/
LOCATION:Online Meeting
CATEGORIES:Training
END:VEVENT
BEGIN:VEVENT
DTSTART;TZID=America/Los_Angeles:20251229T180000
DTEND;TZID=America/Los_Angeles:20251229T200000
DTSTAMP:20260421T144923
CREATED:20251216T073253Z
LAST-MODIFIED:20251216T073253Z
UID:1382314-1767031200-1767038400@d101tm.org
SUMMARY:Train the Trainer
DESCRIPTION:Learn the effective tools and techniques to be an effective trainer\, both online and in person. This training applies to all training situations and qualifies attendees to serve as Club Officer Trainers for District 101. \nDate: December 29\, 2025 (Monday)\nTime: 6:00 – 8:00 p.m. PT\nLocation: Online \nCost: Free! \nQuestions? Contact:\nProgram Quality Director Chirag Mapara\, chirag.toastmaster@gmail.com
URL:https://d101tm.org/event/train-the-trainer-5/
LOCATION:Online Meeting
CATEGORIES:Training
END:VEVENT
BEGIN:VEVENT
DTSTART;TZID=America/Los_Angeles:20260107T180000
DTEND;TZID=America/Los_Angeles:20260107T200000
DTSTAMP:20260421T144923
CREATED:20251217T073425Z
LAST-MODIFIED:20260107T200050Z
UID:1382320-1767808800-1767816000@d101tm.org
SUMMARY:Club Officer Training
DESCRIPTION:Get equipped with the tools and techniques to lead and serve as a Club Officer. Be part of the Toastmaster leadership community. Get trained.
URL:https://d101tm.org/event/club-officer-training-19/
LOCATION:Online Meeting
CATEGORIES:Training
END:VEVENT
BEGIN:VEVENT
DTSTART;TZID=America/Los_Angeles:20260112T180000
DTEND;TZID=America/Los_Angeles:20260112T200000
DTSTAMP:20260421T144923
CREATED:20251217T074836Z
LAST-MODIFIED:20260107T201033Z
UID:1382353-1768240800-1768248000@d101tm.org
SUMMARY:Club Officer Training
DESCRIPTION:Get equipped with the tools and techniques to lead and serve as a Club Officer. Be part of the Toastmaster leadership community. Get trained.
URL:https://d101tm.org/event/club-officer-training-33/
LOCATION:Online Meeting
CATEGORIES:Training
END:VEVENT
BEGIN:VEVENT
DTSTART;TZID=America/Los_Angeles:20260113T180000
DTEND;TZID=America/Los_Angeles:20260113T190000
DTSTAMP:20260421T144923
CREATED:20260108T035508Z
LAST-MODIFIED:20260108T035715Z
UID:1382466-1768327200-1768330800@d101tm.org
SUMMARY:GREAT EVENT -  Storytelling Secrets with Fursey Gotuaco
DESCRIPTION:Just in time for Contest season!  \nLearn the secrets and success tips from the master of storytelling – Toastmasters International Speech Contest Finalist Fursey Gotuaco. \nFursey is an Executive Speech Coach\, TEDx speaker/coach with over 30 years of coaching who has twice reached the Finals of the World Championship of Public Speaking. One of the most in demand speaker and trainer\, he works with individuals and teams in high stakes speaking engagements as well as startups making business pitches and voice-over artists who are refining their vocal delivery. \nDATE:\nTuesday\, January 13\, 2026\n\nTIME:\n6:00 PM – 07:00 PM PT\n\nLOCATION:\nOnline \nRegister at: https://docs.google.com/forms/d/e/1FAIpQLSdhvS2zsnaXKC3xtWyNGZODMOtbB2b-diFjbDnallmNyED7NQ/viewform \nThe Zoom link will be sent after the form is completed.
URL:https://d101tm.org/event/great-event-storytelling-secrets-with-fursey-gotuaco/
LOCATION:Online Meeting
CATEGORIES:GREAT Events
ATTACH;FMTTYPE=application/pdf:https://d101tm.org/wp-content/uploads/2026/01/Great-Event-Speech-Craft-1.pdf
END:VEVENT
BEGIN:VEVENT
DTSTART;TZID=America/Los_Angeles:20260115T180000
DTEND;TZID=America/Los_Angeles:20260115T200000
DTSTAMP:20260421T144923
CREATED:20251217T074837Z
LAST-MODIFIED:20260107T201110Z
UID:1382354-1768500000-1768507200@d101tm.org
SUMMARY:Club Officer Training
DESCRIPTION:Get equipped with the tools and techniques to lead and serve as a Club Officer. Be part of the Toastmaster leadership community. Get trained.
URL:https://d101tm.org/event/club-officer-training-34/
LOCATION:Online Meeting
CATEGORIES:Training
END:VEVENT
BEGIN:VEVENT
DTSTART;TZID=America/Los_Angeles:20260119T180000
DTEND;TZID=America/Los_Angeles:20260119T200000
DTSTAMP:20260421T144923
CREATED:20251217T074839Z
LAST-MODIFIED:20260107T200002Z
UID:1382355-1768845600-1768852800@d101tm.org
SUMMARY:Club Officer Training
DESCRIPTION:Get equipped with the tools and techniques to lead and serve as a Club Officer. Be part of the Toastmaster leadership community. Get trained.
URL:https://d101tm.org/event/club-officer-training-35/
LOCATION:Online Meeting
CATEGORIES:Training
END:VEVENT
BEGIN:VEVENT
DTSTART;TZID=America/Los_Angeles:20260122T180000
DTEND;TZID=America/Los_Angeles:20260122T200000
DTSTAMP:20260421T144923
CREATED:20251217T074846Z
LAST-MODIFIED:20260107T201145Z
UID:1382356-1769104800-1769112000@d101tm.org
SUMMARY:Club Officer Training
DESCRIPTION:Get equipped with the tools and techniques to lead and serve as a Club Officer. Be part of the Toastmaster leadership community. Get trained.
URL:https://d101tm.org/event/club-officer-training-36/
LOCATION:Online Meeting
CATEGORIES:Training
END:VEVENT
BEGIN:VEVENT
DTSTART;TZID=America/Los_Angeles:20260124T090000
DTEND;TZID=America/Los_Angeles:20260124T130000
DTSTAMP:20260421T144923
CREATED:20251224T212118Z
LAST-MODIFIED:20260107T201219Z
UID:1382429-1769245200-1769259600@d101tm.org
SUMMARY:Club Officer Training
DESCRIPTION:Toastmasters International is revising how Club Officer Training is conducted. You will receive training credit for your Club Officer Role but you can also provide input about the training more effective for all Toastmasters. Join and be a part of history.
URL:https://d101tm.org/event/club-officer-training-44/
LOCATION:Online Meeting
CATEGORIES:Training
END:VEVENT
BEGIN:VEVENT
DTSTART;TZID=America/Los_Angeles:20260129T180000
DTEND;TZID=America/Los_Angeles:20260129T200000
DTSTAMP:20260421T144923
CREATED:20251217T074850Z
LAST-MODIFIED:20260107T201242Z
UID:1382358-1769709600-1769716800@d101tm.org
SUMMARY:Club Officer Training
DESCRIPTION:Get equipped with the tools and techniques to lead and serve as a Club Officer. Be part of the Toastmaster leadership community. Get trained.
URL:https://d101tm.org/event/club-officer-training-38/
LOCATION:Online Meeting
CATEGORIES:Training
END:VEVENT
BEGIN:VEVENT
DTSTART;TZID=America/Los_Angeles:20260203T180000
DTEND;TZID=America/Los_Angeles:20260203T200000
DTSTAMP:20260421T144923
CREATED:20251217T074851Z
LAST-MODIFIED:20260107T201308Z
UID:1382359-1770141600-1770148800@d101tm.org
SUMMARY:Club Officer Training
DESCRIPTION:Get equipped with the tools and techniques to lead and serve as a Club Officer. Be part of the Toastmaster leadership community. Get trained.
URL:https://d101tm.org/event/club-officer-training-39/
LOCATION:Online Meeting
CATEGORIES:Training
END:VEVENT
BEGIN:VEVENT
DTSTART;TZID=America/Los_Angeles:20260212T180000
DTEND;TZID=America/Los_Angeles:20260212T200000
DTSTAMP:20260421T144923
CREATED:20251217T074853Z
LAST-MODIFIED:20260107T201334Z
UID:1382360-1770919200-1770926400@d101tm.org
SUMMARY:Club Officer Training
DESCRIPTION:Get equipped with the tools and techniques to lead and serve as a Club Officer. Be part of the Toastmaster leadership community. Get trained.
URL:https://d101tm.org/event/club-officer-training-40/
LOCATION:Online Meeting
CATEGORIES:Training
END:VEVENT
BEGIN:VEVENT
DTSTART;TZID=America/Los_Angeles:20260216T180000
DTEND;TZID=America/Los_Angeles:20260216T200000
DTSTAMP:20260421T144923
CREATED:20251217T074900Z
LAST-MODIFIED:20260107T201413Z
UID:1382361-1771264800-1771272000@d101tm.org
SUMMARY:Club Officer Training
DESCRIPTION:Get equipped with the tools and techniques to lead and serve as a Club Officer. Be part of the Toastmaster leadership community. Get trained.
URL:https://d101tm.org/event/club-officer-training-41/
LOCATION:Online Meeting
CATEGORIES:Training
END:VEVENT
BEGIN:VEVENT
DTSTART;TZID=America/Los_Angeles:20260219T173000
DTEND;TZID=America/Los_Angeles:20260219T213000
DTSTAMP:20260421T144923
CREATED:20260212T041943Z
LAST-MODIFIED:20260212T041943Z
UID:1382590-1771522200-1771536600@d101tm.org
SUMMARY:Area C1 Speech Contest
DESCRIPTION:
URL:https://d101tm.org/event/area-c1-speech-contest/
LOCATION:Milpitas Police Department\, 1275 N. Milpitas Boulevard\, Milpitas\, CA\, 95035\, United States
CATEGORIES:Contest
END:VEVENT
BEGIN:VEVENT
DTSTART;TZID=America/Los_Angeles:20260219T180000
DTEND;TZID=America/Los_Angeles:20260219T200000
DTSTAMP:20260421T144923
CREATED:20251217T074902Z
LAST-MODIFIED:20260107T200916Z
UID:1382362-1771524000-1771531200@d101tm.org
SUMMARY:Club Officer Training
DESCRIPTION:Get equipped with the tools and techniques to lead and serve as a Club Officer. Be part of the Toastmaster leadership community. Get trained.
URL:https://d101tm.org/event/club-officer-training-42/
LOCATION:Online Meeting
CATEGORIES:Training
END:VEVENT
BEGIN:VEVENT
DTSTART;TZID=America/Los_Angeles:20260221T090000
DTEND;TZID=America/Los_Angeles:20260221T130000
DTSTAMP:20260421T144923
CREATED:20260122T021221Z
LAST-MODIFIED:20260122T021221Z
UID:1382529-1771664400-1771678800@d101tm.org
SUMMARY:Area D1 Contest
DESCRIPTION:
URL:https://d101tm.org/event/area-d1-contest-7/
LOCATION:Milpitas Police Department\, 1275 N. Milpitas Boulevard\, Milpitas\, CA\, 95035\, United States
CATEGORIES:Contest
END:VEVENT
BEGIN:VEVENT
DTSTART;TZID=America/Los_Angeles:20260221T090000
DTEND;TZID=America/Los_Angeles:20260221T130000
DTSTAMP:20260421T144923
CREATED:20260122T021222Z
LAST-MODIFIED:20260122T021222Z
UID:1382530-1771664400-1771678800@d101tm.org
SUMMARY:Area D2 Contest
DESCRIPTION:
URL:https://d101tm.org/event/area-d2-contest-6/
LOCATION:Milpitas Police Department\, 1275 N. Milpitas Boulevard\, Milpitas\, CA\, 95035\, United States
CATEGORIES:Contest
END:VEVENT
BEGIN:VEVENT
DTSTART;TZID=America/Los_Angeles:20260221T090000
DTEND;TZID=America/Los_Angeles:20260221T130000
DTSTAMP:20260421T144923
CREATED:20260122T021222Z
LAST-MODIFIED:20260122T021222Z
UID:1382531-1771664400-1771678800@d101tm.org
SUMMARY:Area D3 Contest
DESCRIPTION:
URL:https://d101tm.org/event/area-d3-contest-7/
LOCATION:Milpitas Police Department\, 1275 N. Milpitas Boulevard\, Milpitas\, CA\, 95035\, United States
CATEGORIES:Contest
END:VEVENT
BEGIN:VEVENT
DTSTART;TZID=America/Los_Angeles:20260221T090000
DTEND;TZID=America/Los_Angeles:20260221T130000
DTSTAMP:20260421T144923
CREATED:20260122T021235Z
LAST-MODIFIED:20260122T021235Z
UID:1382532-1771664400-1771678800@d101tm.org
SUMMARY:Area D4 Contest
DESCRIPTION:
URL:https://d101tm.org/event/area-d4-contest-6/
LOCATION:Milpitas Police Department\, 1275 N. Milpitas Boulevard\, Milpitas\, CA\, 95035\, United States
CATEGORIES:Contest
END:VEVENT
BEGIN:VEVENT
DTSTART;TZID=America/Los_Angeles:20260221T090000
DTEND;TZID=America/Los_Angeles:20260221T130000
DTSTAMP:20260421T144923
CREATED:20260122T021235Z
LAST-MODIFIED:20260122T021235Z
UID:1382533-1771664400-1771678800@d101tm.org
SUMMARY:Area D5 Contest
DESCRIPTION:
URL:https://d101tm.org/event/area-d5-contest-6/
LOCATION:Milpitas Police Department\, 1275 N. Milpitas Boulevard\, Milpitas\, CA\, 95035\, United States
CATEGORIES:Contest
END:VEVENT
BEGIN:VEVENT
DTSTART;TZID=America/Los_Angeles:20260221T130000
DTEND;TZID=America/Los_Angeles:20260221T160000
DTSTAMP:20260421T144923
CREATED:20260213T184352Z
LAST-MODIFIED:20260213T184352Z
UID:1382605-1771678800-1771689600@d101tm.org
SUMMARY:Area B3 Contest
DESCRIPTION:
URL:https://d101tm.org/event/area-b3-contest-7/
LOCATION:Santa Clara Valley Water District\, 5700 Almaden Expressway\, San Jose\, CA\, 95118\, United States
CATEGORIES:Contest
END:VEVENT
BEGIN:VEVENT
DTSTART;TZID=America/Los_Angeles:20260221T130000
DTEND;TZID=America/Los_Angeles:20260221T160000
DTSTAMP:20260421T144923
CREATED:20260213T184353Z
LAST-MODIFIED:20260213T184353Z
UID:1382606-1771678800-1771689600@d101tm.org
SUMMARY:Area B4 Contest
DESCRIPTION:
URL:https://d101tm.org/event/area-b4-contest-8/
LOCATION:Santa Clara Valley Water District\, 5700 Almaden Expressway\, San Jose\, CA\, 95118\, United States
CATEGORIES:Contest
END:VEVENT
BEGIN:VEVENT
DTSTART;TZID=America/Los_Angeles:20260221T140000
DTEND;TZID=America/Los_Angeles:20260221T180000
DTSTAMP:20260421T144923
CREATED:20260118T164944Z
LAST-MODIFIED:20260118T210942Z
UID:1382512-1771682400-1771696800@d101tm.org
SUMMARY:Area C4 Contest
DESCRIPTION:
URL:https://d101tm.org/event/areas-c4-contest/
LOCATION:Milpitas Police Department\, 1275 N. Milpitas Boulevard\, Milpitas\, CA\, 95035\, United States
CATEGORIES:Contest
END:VEVENT
BEGIN:VEVENT
DTSTART;TZID=America/Los_Angeles:20260221T140000
DTEND;TZID=America/Los_Angeles:20260221T180000
DTSTAMP:20260421T144923
CREATED:20260118T164946Z
LAST-MODIFIED:20260122T021216Z
UID:1382514-1771682400-1771696800@d101tm.org
SUMMARY:Area C5 Contest
DESCRIPTION:
URL:https://d101tm.org/event/area-c5-contest-7/
LOCATION:Milpitas Police Department\, 1275 N. Milpitas Boulevard\, Milpitas\, CA\, 95035\, United States
CATEGORIES:Contest
END:VEVENT
END:VCALENDAR