BEGIN:VCALENDAR
VERSION:2.0
PRODID:-//District 101 Toastmasters - ECPv6.15.20//NONSGML v1.0//EN
CALSCALE:GREGORIAN
METHOD:PUBLISH
X-WR-CALNAME:District 101 Toastmasters
X-ORIGINAL-URL:https://d101tm.org
X-WR-CALDESC:Events for District 101 Toastmasters
REFRESH-INTERVAL;VALUE=DURATION:PT1H
X-Robots-Tag:noindex
X-PUBLISHED-TTL:PT1H
BEGIN:VTIMEZONE
TZID:America/Los_Angeles
BEGIN:DAYLIGHT
TZOFFSETFROM:-0800
TZOFFSETTO:-0700
TZNAME:PDT
DTSTART:20250309T100000
END:DAYLIGHT
BEGIN:STANDARD
TZOFFSETFROM:-0700
TZOFFSETTO:-0800
TZNAME:PST
DTSTART:20251102T090000
END:STANDARD
BEGIN:DAYLIGHT
TZOFFSETFROM:-0800
TZOFFSETTO:-0700
TZNAME:PDT
DTSTART:20260308T100000
END:DAYLIGHT
BEGIN:STANDARD
TZOFFSETFROM:-0700
TZOFFSETTO:-0800
TZNAME:PST
DTSTART:20261101T090000
END:STANDARD
BEGIN:DAYLIGHT
TZOFFSETFROM:-0800
TZOFFSETTO:-0700
TZNAME:PDT
DTSTART:20270314T100000
END:DAYLIGHT
BEGIN:STANDARD
TZOFFSETFROM:-0700
TZOFFSETTO:-0800
TZNAME:PST
DTSTART:20271107T090000
END:STANDARD
END:VTIMEZONE
BEGIN:VEVENT
DTSTART;TZID=America/Los_Angeles:20260221T140000
DTEND;TZID=America/Los_Angeles:20260221T180000
DTSTAMP:20260421T192628
CREATED:20260122T021214Z
LAST-MODIFIED:20260122T021214Z
UID:1382523-1771682400-1771696800@d101tm.org
SUMMARY:Areas C4 Contest
DESCRIPTION:
URL:https://d101tm.org/event/areas-c4-contest-2/
LOCATION:Milpitas Police Department\, 1275 N. Milpitas Boulevard\, Milpitas\, CA\, 95035\, United States
CATEGORIES:Contest
END:VEVENT
BEGIN:VEVENT
DTSTART;TZID=America/Los_Angeles:20260221T140000
DTEND;TZID=America/Los_Angeles:20260221T180000
DTSTAMP:20260421T192628
CREATED:20260213T184839Z
LAST-MODIFIED:20260213T184839Z
UID:1382613-1771682400-1771696800@d101tm.org
SUMMARY:Areas C5 Contest
DESCRIPTION:
URL:https://d101tm.org/event/areas-c5-contest/
LOCATION:Milpitas Police Department\, 1275 N. Milpitas Boulevard\, Milpitas\, CA\, 95035\, United States
CATEGORIES:Contest
END:VEVENT
BEGIN:VEVENT
DTSTART;TZID=America/Los_Angeles:20260225T120000
DTEND;TZID=America/Los_Angeles:20260225T130000
DTSTAMP:20260421T192628
CREATED:20260216T232238Z
LAST-MODIFIED:20260225T190040Z
UID:1382619-1772020800-1772024400@d101tm.org
SUMMARY:Area C3 Contest
DESCRIPTION:
URL:https://d101tm.org/event/area-c3-contest-7/
LOCATION:Santa Clara County Office of Education\, Guadalupe Room\, 1290 Ridder Park Dr\, San Jose\, CA\, 95131\, United States
CATEGORIES:Contest
END:VEVENT
BEGIN:VEVENT
DTSTART;TZID=America/Los_Angeles:20260226T173000
DTEND;TZID=America/Los_Angeles:20260226T203000
DTSTAMP:20260421T192628
CREATED:20260118T162258Z
LAST-MODIFIED:20260211T024232Z
UID:1382503-1772127000-1772137800@d101tm.org
SUMMARY:Area G1 Contest
DESCRIPTION:
URL:https://d101tm.org/event/area-g1-contest-9/
LOCATION:Keller Williams Real Estate Training Room\, 19900 Stevens Creek Blvd\, Cupertino\, CA\, 95014\, United States
CATEGORIES:Contest
END:VEVENT
BEGIN:VEVENT
DTSTART;TZID=America/Los_Angeles:20260226T173000
DTEND;TZID=America/Los_Angeles:20260226T203000
DTSTAMP:20260421T192628
CREATED:20260211T024229Z
LAST-MODIFIED:20260211T024229Z
UID:1382572-1772127000-1772137800@d101tm.org
SUMMARY:Area G2 Contest
DESCRIPTION:
URL:https://d101tm.org/event/area-g2-contest-7/
LOCATION:Keller Williams Real Estate Training Room\, 19900 Stevens Creek Blvd\, Cupertino\, CA\, 95014\, United States
CATEGORIES:Contest
END:VEVENT
BEGIN:VEVENT
DTSTART;TZID=America/Los_Angeles:20260226T180000
DTEND;TZID=America/Los_Angeles:20260226T200000
DTSTAMP:20260421T192628
CREATED:20251217T074903Z
LAST-MODIFIED:20260107T200848Z
UID:1382363-1772128800-1772136000@d101tm.org
SUMMARY:Club Officer Training
DESCRIPTION:Get equipped with the tools and techniques to lead and serve as a Club Officer. Be part of the Toastmaster leadership community. Get trained.
URL:https://d101tm.org/event/club-officer-training-43/
LOCATION:Online Meeting
CATEGORIES:Training
END:VEVENT
BEGIN:VEVENT
DTSTART;TZID=America/Los_Angeles:20260227T180000
DTEND;TZID=America/Los_Angeles:20260227T200000
DTSTAMP:20260421T192628
CREATED:20260128T173416Z
LAST-MODIFIED:20260128T173601Z
UID:1382538-1772215200-1772222400@d101tm.org
SUMMARY:7:1 Club Officer Training
DESCRIPTION:This is a 7-in1 Training designed for Toastmasters who have already served and been trained in their Officer Role. Get equipped with the tools and techniques to lead and serve as a Club Officer.
URL:https://d101tm.org/event/71-club-officer-training/
LOCATION:Online Meeting
CATEGORIES:Training
END:VEVENT
BEGIN:VEVENT
DTSTART;TZID=America/Los_Angeles:20260228T090000
DTEND;TZID=America/Los_Angeles:20260228T110000
DTSTAMP:20260421T192628
CREATED:20260225T185041Z
LAST-MODIFIED:20260225T185041Z
UID:1382663-1772269200-1772276400@d101tm.org
SUMMARY:7:1 Club Officer Training
DESCRIPTION:This is a 7-in1 Training designed for Toastmasters who have already served and been trained in their Officer Role. Get equipped with the tools and techniques to lead and serve as a Club Officer.
URL:https://d101tm.org/event/71-club-officer-training-3/
LOCATION:Online Meeting
CATEGORIES:Training
END:VEVENT
BEGIN:VEVENT
DTSTART;TZID=America/Los_Angeles:20260228T100000
DTEND;TZID=America/Los_Angeles:20260228T140000
DTSTAMP:20260421T192628
CREATED:20260211T024225Z
LAST-MODIFIED:20260211T024225Z
UID:1382568-1772272800-1772287200@d101tm.org
SUMMARY:Area A1 Contest
DESCRIPTION:
URL:https://d101tm.org/event/area-a1-contest/
LOCATION:The Pajaro Valley Community Health Trust\, 85 Nielson Street\, Watsonville\, CA\, 95076\, United States
CATEGORIES:Contest
END:VEVENT
BEGIN:VEVENT
DTSTART;TZID=America/Los_Angeles:20260228T100000
DTEND;TZID=America/Los_Angeles:20260228T140000
DTSTAMP:20260421T192628
CREATED:20260211T024226Z
LAST-MODIFIED:20260211T024226Z
UID:1382569-1772272800-1772287200@d101tm.org
SUMMARY:Area A2 Contest
DESCRIPTION:
URL:https://d101tm.org/event/area-a2-contest/
LOCATION:The Pajaro Valley Community Health Trust\, 85 Nielson Street\, Watsonville\, CA\, 95076\, United States
CATEGORIES:Contest
END:VEVENT
BEGIN:VEVENT
DTSTART;TZID=America/Los_Angeles:20260228T100000
DTEND;TZID=America/Los_Angeles:20260228T140000
DTSTAMP:20260421T192628
CREATED:20260211T024227Z
LAST-MODIFIED:20260211T024227Z
UID:1382570-1772272800-1772287200@d101tm.org
SUMMARY:Area A3 Contest
DESCRIPTION:
URL:https://d101tm.org/event/area-a3-contest/
LOCATION:The Pajaro Valley Community Health Trust\, 85 Nielson Street\, Watsonville\, CA\, 95076\, United States
CATEGORIES:Contest
END:VEVENT
BEGIN:VEVENT
DTSTART;TZID=America/Los_Angeles:20260228T100000
DTEND;TZID=America/Los_Angeles:20260228T140000
DTSTAMP:20260421T192628
CREATED:20260211T024228Z
LAST-MODIFIED:20260211T024228Z
UID:1382571-1772272800-1772287200@d101tm.org
SUMMARY:Area A4 Contest
DESCRIPTION:
URL:https://d101tm.org/event/area-a4-contest/
LOCATION:The Pajaro Valley Community Health Trust\, 85 Nielson Street\, Watsonville\, CA\, 95076\, United States
CATEGORIES:Contest
END:VEVENT
BEGIN:VEVENT
DTSTART;TZID=America/Los_Angeles:20260228T120000
DTEND;TZID=America/Los_Angeles:20260228T160000
DTSTAMP:20260421T192628
CREATED:20260213T184400Z
LAST-MODIFIED:20260213T184400Z
UID:1382610-1772280000-1772294400@d101tm.org
SUMMARY:Area B1 Contest
DESCRIPTION:
URL:https://d101tm.org/event/area-b1-contest-7/
LOCATION:Almaden Library Community Room\, 6445 Camden Ave\, San Jose\, CA\, 95120\, United States
CATEGORIES:Contest
END:VEVENT
BEGIN:VEVENT
DTSTART;TZID=America/Los_Angeles:20260228T120000
DTEND;TZID=America/Los_Angeles:20260228T160000
DTSTAMP:20260421T192628
CREATED:20260213T184403Z
LAST-MODIFIED:20260213T184403Z
UID:1382611-1772280000-1772294400@d101tm.org
SUMMARY:Area B6 Contest
DESCRIPTION:
URL:https://d101tm.org/event/area-b6-contest-6/
LOCATION:Almaden Library Community Room\, 6445 Camden Ave\, San Jose\, CA\, 95120\, United States
CATEGORIES:Contest
END:VEVENT
BEGIN:VEVENT
DTSTART;TZID=America/Los_Angeles:20260301T100000
DTEND;TZID=America/Los_Angeles:20260301T140000
DTSTAMP:20260421T192628
CREATED:20260221T001443Z
LAST-MODIFIED:20260301T061247Z
UID:1382632-1772359200-1772373600@d101tm.org
SUMMARY:Area B2 Contest
DESCRIPTION:
URL:https://d101tm.org/event/area-b2-contest-6/
LOCATION:Dr Roberto Cruz – Alum Rock Branch Library\, 3090 Alum Rock Ave.\, San Jose\, CA\, 95127\, United States
CATEGORIES:Contest
END:VEVENT
BEGIN:VEVENT
DTSTART;TZID=America/Los_Angeles:20260301T100000
DTEND;TZID=America/Los_Angeles:20260301T140000
DTSTAMP:20260421T192628
CREATED:20260221T001534Z
LAST-MODIFIED:20260301T061113Z
UID:1382634-1772359200-1772373600@d101tm.org
SUMMARY:Area B5 Contest
DESCRIPTION:
URL:https://d101tm.org/event/area-b5-contest-8/
LOCATION:Dr Roberto Cruz – Alum Rock Branch Library\, 3090 Alum Rock Ave.\, San Jose\, CA\, 95127\, United States
CATEGORIES:Contest
END:VEVENT
BEGIN:VEVENT
DTSTART;TZID=America/Los_Angeles:20260301T103000
DTEND;TZID=America/Los_Angeles:20260301T133000
DTSTAMP:20260421T192628
CREATED:20260118T164945Z
LAST-MODIFIED:20260227T220233Z
UID:1382513-1772361000-1772371800@d101tm.org
SUMMARY:Area C2 Contest
DESCRIPTION:
URL:https://d101tm.org/event/area-c2-contest-8/
LOCATION:Murphy Park Hall\, 260 N Sunnyvale Rd\, Sunnyvale\, CA\, 94086\, United States
CATEGORIES:Contest
END:VEVENT
BEGIN:VEVENT
DTSTART;TZID=America/Los_Angeles:20260301T103000
DTEND;TZID=America/Los_Angeles:20260301T133000
DTSTAMP:20260421T192628
CREATED:20260118T164947Z
LAST-MODIFIED:20260227T220320Z
UID:1382515-1772361000-1772371800@d101tm.org
SUMMARY:Area E4 Contest
DESCRIPTION:
URL:https://d101tm.org/event/area-e4-contest-8/
LOCATION:Murphy Park Hall\, 260 N Sunnyvale Rd\, Sunnyvale\, CA\, 94086\, United States
CATEGORIES:Contest
END:VEVENT
BEGIN:VEVENT
DTSTART;TZID=America/Los_Angeles:20260301T103000
DTEND;TZID=America/Los_Angeles:20260301T133000
DTSTAMP:20260421T192628
CREATED:20260118T164951Z
LAST-MODIFIED:20260227T220359Z
UID:1382516-1772361000-1772371800@d101tm.org
SUMMARY:Area E5 Contest
DESCRIPTION:
URL:https://d101tm.org/event/area-e5-contest-7/
LOCATION:Murphy Park Hall\, 260 N Sunnyvale Rd\, Sunnyvale\, CA\, 94086\, United States
CATEGORIES:Contest
END:VEVENT
BEGIN:VEVENT
DTSTART;TZID=America/Los_Angeles:20260301T103000
DTEND;TZID=America/Los_Angeles:20260301T133000
DTSTAMP:20260421T192628
CREATED:20260118T164952Z
LAST-MODIFIED:20260227T220431Z
UID:1382517-1772361000-1772371800@d101tm.org
SUMMARY:Area E6 Contest
DESCRIPTION:
URL:https://d101tm.org/event/area-e6-contest-2/
LOCATION:Murphy Park Hall\, 260 N Sunnyvale Rd\, Sunnyvale\, CA\, 94086\, United States
CATEGORIES:Contest
END:VEVENT
BEGIN:VEVENT
DTSTART;TZID=America/Los_Angeles:20260303T120000
DTEND;TZID=America/Los_Angeles:20260303T130000
DTSTAMP:20260421T192628
CREATED:20260217T210835Z
LAST-MODIFIED:20260303T044317Z
UID:1382621-1772539200-1772542800@d101tm.org
SUMMARY:In Her Power: Women Rising Through Confidence and Communication
DESCRIPTION:
URL:https://d101tm.org/event/in-her-power-women-rising-through-confidence-and-communication/
LOCATION:Online Meeting
CATEGORIES:GREAT Events
ATTACH;FMTTYPE=image/jpeg:https://d101tm.org/wp-content/uploads/2026/02/PHOTO-2026-02-16-20-20-22.jpg
END:VEVENT
BEGIN:VEVENT
DTSTART;TZID=America/Los_Angeles:20260306T173000
DTEND;TZID=America/Los_Angeles:20260306T210000
DTSTAMP:20260421T192628
CREATED:20260211T024233Z
LAST-MODIFIED:20260216T232150Z
UID:1382573-1772818200-1772830800@d101tm.org
SUMMARY:Area C6 Contest
DESCRIPTION:
URL:https://d101tm.org/event/area-c6-contest-4/
LOCATION:Milpitas Police Department\, 1275 N. Milpitas Boulevard\, Milpitas\, CA\, 95035\, United States
CATEGORIES:Contest
END:VEVENT
BEGIN:VEVENT
DTSTART;TZID=America/Los_Angeles:20260310T183000
DTEND;TZID=America/Los_Angeles:20260310T194500
DTSTAMP:20260421T192628
CREATED:20260310T004421Z
LAST-MODIFIED:20260310T004421Z
UID:1382711-1773167400-1773171900@d101tm.org
SUMMARY:AI Workshop
DESCRIPTION:
URL:https://d101tm.org/event/ai-workshop/
LOCATION:Online Meeting
ATTACH;FMTTYPE=image/jpeg:https://d101tm.org/wp-content/uploads/2026/03/36239ed5-de88-4e8a-a345-9571165d1b62.jpeg
END:VEVENT
BEGIN:VEVENT
DTSTART;TZID=America/Los_Angeles:20260313T120000
DTEND;TZID=America/Los_Angeles:20260313T130000
DTSTAMP:20260421T192628
CREATED:20260308T035534Z
LAST-MODIFIED:20260308T040253Z
UID:1382684-1773403200-1773406800@d101tm.org
SUMMARY:Learn to Be Funny – Live Workshop with 100K+ Creator Joscel James
DESCRIPTION:Overview\n\nLearn how humor works\, practice live\, and build the skill with 100K+ creator Joscel James.\n\nJoin us for a special interactive workshop: Learn to Be Funny.\n\n\nFormer ER nurse. Current comedian\, creator\, and speaker. Joscel James survived over 10 years in healthcare by learning how to laugh under pressure\, then quit to teach that skill to others. With 100K+ followers across all platforms and millions of views\, he’s proven that humor isn’t just for “funny people.” It’s for anyone willing to practice. He helps professionals stay human by teaching them how to be funny. \nCome nervous\, leave confident. This workshop teaches you how humor actually works and trains you to spot it everywhere. You’ll learn the Rule of 3\, practice with memes and interactive exercises\, and walk out seeing opportunities for humor you couldn’t see before. Humor is a muscle\, and you’re about to learn how to build it. \nWhether you’re a speaker\, leader\, entrepreneur\, or professional who wants to connect better — this session will give you practical tools you can apply immediately. \nDate: March 13\nTime: 12:00 PM PDT \nZoom details:\nZoom ID: 760 277 3185\nPasscode: 892090 \nGuests are welcome\, and no prior Toastmasters experience is required.
URL:https://d101tm.org/event/learn-to-be-funny-live-workshop-with-100k-creator-joscel-james/
LOCATION:Online Meeting
ATTACH;FMTTYPE=image/jpeg:https://d101tm.org/wp-content/uploads/2026/03/PHOTO-2026-03-07-06-34-14.jpg
END:VEVENT
BEGIN:VEVENT
DTSTART;TZID=America/Los_Angeles:20260315T100000
DTEND;TZID=America/Los_Angeles:20260315T140000
DTSTAMP:20260421T192628
CREATED:20260213T184354Z
LAST-MODIFIED:20260213T184354Z
UID:1382607-1773568800-1773583200@d101tm.org
SUMMARY:Area G3 Contest
DESCRIPTION:
URL:https://d101tm.org/event/area-g3-contest-6/
LOCATION:Community Room 201 at Cupertino Library\, 10800 Torre Ave\, Cupertino\, CA\, 95014\, United States
CATEGORIES:Contest
END:VEVENT
BEGIN:VEVENT
DTSTART;TZID=America/Los_Angeles:20260315T100000
DTEND;TZID=America/Los_Angeles:20260315T140000
DTSTAMP:20260421T192628
CREATED:20260213T184356Z
LAST-MODIFIED:20260213T184356Z
UID:1382608-1773568800-1773583200@d101tm.org
SUMMARY:Area G4 Contest
DESCRIPTION:
URL:https://d101tm.org/event/area-g4-contest-7/
LOCATION:Community Room 201 at Cupertino Library\, 10800 Torre Ave\, Cupertino\, CA\, 95014\, United States
CATEGORIES:Contest
END:VEVENT
BEGIN:VEVENT
DTSTART;TZID=America/Los_Angeles:20260315T100000
DTEND;TZID=America/Los_Angeles:20260315T140000
DTSTAMP:20260421T192628
CREATED:20260216T231946Z
LAST-MODIFIED:20260216T231946Z
UID:1382615-1773568800-1773583200@d101tm.org
SUMMARY:Area G5 Contest
DESCRIPTION:
URL:https://d101tm.org/event/area-g5-contest-7/
LOCATION:Community Room 201 at Cupertino Library\, 10800 Torre Ave\, Cupertino\, CA\, 95014\, United States
CATEGORIES:Contest
END:VEVENT
BEGIN:VEVENT
DTSTART;TZID=America/Los_Angeles:20260318T120000
DTEND;TZID=America/Los_Angeles:20260318T130000
DTSTAMP:20260421T192628
CREATED:20260314T223458Z
LAST-MODIFIED:20260314T223553Z
UID:1382718-1773835200-1773838800@d101tm.org
SUMMARY:Redwood Ramblers Open House
DESCRIPTION:
URL:https://d101tm.org/event/redwood-ramblers-open-house/
LOCATION:Online Meeting
CATEGORIES:Open House
ATTACH;FMTTYPE=image/jpeg:https://d101tm.org/wp-content/uploads/2026/03/WhatsApp-Image-2026-03-13-at-9.59.28-AM.jpeg
END:VEVENT
BEGIN:VEVENT
DTSTART;TZID=America/Los_Angeles:20260318T190000
DTEND;TZID=America/Los_Angeles:20260318T200000
DTSTAMP:20260421T192628
CREATED:20260309T224939Z
LAST-MODIFIED:20260314T223808Z
UID:1382708-1773860400-1773864000@d101tm.org
SUMMARY:The Blueprint for a Quality Toastmasters Club
DESCRIPTION:
URL:https://d101tm.org/event/the-blueprint-for-a-quality-toastmasters-club/
LOCATION:Online Meeting
CATEGORIES:GREAT Events
ATTACH;FMTTYPE=image/jpeg:https://d101tm.org/wp-content/uploads/2026/03/WhatsApp-Image-2026-03-13-at-2.55.49-PM.jpeg
END:VEVENT
BEGIN:VEVENT
DTSTART;TZID=America/Los_Angeles:20260320T113000
DTEND;TZID=America/Los_Angeles:20260320T123000
DTSTAMP:20260421T192628
CREATED:20260308T041259Z
LAST-MODIFIED:20260308T041259Z
UID:1382700-1774006200-1774009800@d101tm.org
SUMMARY:Santa Clara Sweet Talkers Open House
DESCRIPTION:
URL:https://d101tm.org/event/santa-clara-sweet-talkers-open-house/
LOCATION:iGurukul Learning Center\, 2067 Agnew Rd\, Santa Clara\, CA\, 95054\, United States
CATEGORIES:Open House
ATTACH;FMTTYPE=image/jpeg:https://d101tm.org/wp-content/uploads/2026/03/PHOTO-2026-03-07-15-03-24-1.jpg
END:VEVENT
END:VCALENDAR