BEGIN:VCALENDAR
VERSION:2.0
PRODID:-//District 101 Toastmasters - ECPv6.15.20//NONSGML v1.0//EN
CALSCALE:GREGORIAN
METHOD:PUBLISH
X-ORIGINAL-URL:https://d101tm.org
X-WR-CALDESC:Events for District 101 Toastmasters
REFRESH-INTERVAL;VALUE=DURATION:PT1H
X-Robots-Tag:noindex
X-PUBLISHED-TTL:PT1H
BEGIN:VTIMEZONE
TZID:America/Los_Angeles
BEGIN:DAYLIGHT
TZOFFSETFROM:-0800
TZOFFSETTO:-0700
TZNAME:PDT
DTSTART:20250309T100000
END:DAYLIGHT
BEGIN:STANDARD
TZOFFSETFROM:-0700
TZOFFSETTO:-0800
TZNAME:PST
DTSTART:20251102T090000
END:STANDARD
BEGIN:DAYLIGHT
TZOFFSETFROM:-0800
TZOFFSETTO:-0700
TZNAME:PDT
DTSTART:20260308T100000
END:DAYLIGHT
BEGIN:STANDARD
TZOFFSETFROM:-0700
TZOFFSETTO:-0800
TZNAME:PST
DTSTART:20261101T090000
END:STANDARD
BEGIN:DAYLIGHT
TZOFFSETFROM:-0800
TZOFFSETTO:-0700
TZNAME:PDT
DTSTART:20270314T100000
END:DAYLIGHT
BEGIN:STANDARD
TZOFFSETFROM:-0700
TZOFFSETTO:-0800
TZNAME:PST
DTSTART:20271107T090000
END:STANDARD
END:VTIMEZONE
BEGIN:VEVENT
DTSTART;TZID=America/Los_Angeles:20260516T070000
DTEND;TZID=America/Los_Angeles:20260516T150000
DTSTAMP:20260422T010247
CREATED:20260414T024918Z
LAST-MODIFIED:20260414T025311Z
UID:1383186-1778914800-1778943600@d101tm.org
SUMMARY:2026 Annual District Conference
DESCRIPTION:District 101 Annual District Conference\nDates: May 16-17\, 2026 \nLocation: Synopsys\, Building 1\, 800 N Mary Ave\, Sunnyvale\, CA-94086 \nLearn more: https://d101tm.org/conference
URL:https://d101tm.org/event/2026-annual-district-conference/
LOCATION:Synopsys Building 1\, 800 N Mary Ave\, Sunnyvale\, CA\, 94085\, United States
CATEGORIES:Conference
ATTACH;FMTTYPE=image/png:https://d101tm.org/wp-content/uploads/2026/03/2026_D101_Conference_Logo-Transparent.png
END:VEVENT
BEGIN:VEVENT
DTSTART;TZID=America/Los_Angeles:20260517T073000
DTEND;TZID=America/Los_Angeles:20260517T130000
DTSTAMP:20260422T010247
CREATED:20260414T025011Z
LAST-MODIFIED:20260414T025337Z
UID:1383189-1779003000-1779022800@d101tm.org
SUMMARY:2026 Annual District Conference
DESCRIPTION:District 101 Annual District Conference\nDates: May 16-17\, 2026 \nLocation: Synopsys\, Building 1\, 800 N Mary Ave\, Sunnyvale\, CA-94086 \nLearn more: https://d101tm.org/conference
URL:https://d101tm.org/event/2026-annual-district-conference-2/
LOCATION:Synopsys Building 1\, 800 N Mary Ave\, Sunnyvale\, CA\, 94085\, United States
CATEGORIES:Conference
ATTACH;FMTTYPE=image/png:https://d101tm.org/wp-content/uploads/2026/03/2026_D101_Conference_Logo-Transparent.png
END:VEVENT
END:VCALENDAR